BEGIN:VCALENDAR
VERSION:2.0
PRODID:icalendar-ruby
CALSCALE:GREGORIAN
METHOD:PUBLISH
BEGIN:VEVENT
DTSTAMP:20260422T022913Z
UID:ac50ffce-7a2d-4d15-8a49-4afac040f277
DTSTART:20260725T060000
DTEND:20260725T150000
DESCRIPTION:<p><span>The Noordhoek Superbowl is a 21km mountain race around
  the skyline of the magnificent natural mountain amphitheatre that forms t
 he backdrop to the leafy suburb of Noordhoek. </span></p><p><span> </spa
 n></p><p><span>The route has 1\,189m of accumulative height gain\, and inc
 ludes the summits of Chapman’s Peak (593m)\, Noordhoek peak (754m) and 
 the lesser known Spitskop (492m)\, before the final descent into the finis
 h.</span></p><p><span> </span></p><p><span>The race starts on the beautif
 ul Noordhoek Common\, and finishes at the famous Noordhoek Farm Village.<
 /span></p><p><br></p><p><br></p><p><br></p>
LOCATION:Noordhoek Main Road
SUMMARY:The Noordhoek Superbowl 2026
URL;VALUE=URI:https://wildrunner.howler.co.za/noordhoeksuperbowl26
END:VEVENT
END:VCALENDAR
