BEGIN:VCALENDAR
VERSION:2.0
PRODID:icalendar-ruby
CALSCALE:GREGORIAN
METHOD:PUBLISH
BEGIN:VEVENT
DTSTAMP:20260425T120856Z
UID:1c527140-1e3d-4c0f-8cf4-6d6e68ca7442
DTSTART:20260502T053000
DTEND:20260502T153000
DESCRIPTION:<p><span style="color: rgb(10\, 0\, 0)\;">Run somewhere truly e
 xtraordinary - the unrivalled alpine-like landscape of the Jonkershoek mou
 ntains makes the JMC one of the most spectacular and sought-after big moun
 tain races in the Western Cape. This year will host the 15th edition of th
 e Jonkershoek Mountain Challenge.</span></p>
LOCATION:Jonkershoek Road
SUMMARY:Jonkershoek Mountain Challenge 2026
URL;VALUE=URI:https://wildrunner.howler.co.za/jonkershoekmountainchallenge2
 026
END:VEVENT
END:VCALENDAR
